BEGIN:VCALENDAR
VERSION:2.0
PRODID:icalendar-ruby
CALSCALE:GREGORIAN
BEGIN:VEVENT
DTSTAMP:20260420T065701Z
UID:d9315eea-2079-4363-bb53-df3c9165a8d2
DTSTART;TZID=Pacific/Auckland:20260418T110000
DTEND;TZID=Pacific/Auckland:20260418T113000
DESCRIPTION:Property ID# 605868
SUMMARY:Openhome for 1/165 Clarence Street
END:VEVENT
END:VCALENDAR
