BEGIN:VCALENDAR
VERSION:2.0
PRODID:icalendar-ruby
CALSCALE:GREGORIAN
BEGIN:VEVENT
DTSTAMP:20260420T030815Z
UID:1bcb7992-6db2-49e7-b1fd-551d2ea54779
DTSTART;TZID=Pacific/Auckland:20260418T120000
DTEND;TZID=Pacific/Auckland:20260418T123000
DESCRIPTION:Property ID# 605916
SUMMARY:Openhome for 21 Defoe Place
END:VEVENT
END:VCALENDAR
