BEGIN:VCALENDAR
VERSION:2.0
PRODID:icalendar-ruby
CALSCALE:GREGORIAN
BEGIN:VEVENT
DTSTAMP:20260420T065538Z
UID:a6715a5a-0b08-4d8c-857c-ac0473d6d356
DTSTART;TZID=Pacific/Auckland:20260419T120000
DTEND;TZID=Pacific/Auckland:20260419T123000
DESCRIPTION:Property ID# 605920
SUMMARY:Openhome for 2/176 Geraldine Street
END:VEVENT
END:VCALENDAR
