BEGIN:VCALENDAR
VERSION:2.0
PRODID:icalendar-ruby
CALSCALE:GREGORIAN
BEGIN:VEVENT
DTSTAMP:20260425T145112Z
UID:8224932f-588c-4fba-bd8d-94e2da04255f
DTSTART;VALUE=DATE:20260507
DESCRIPTION:Property ID# 606448\, Locatoin: Harcourts Grenadier 98 Moorhous
 e Avenue \, Time: 11:00AM
SUMMARY:Auction for 2/180 Lyttelton Street
END:VEVENT
END:VCALENDAR
