BEGIN:VCALENDAR
VERSION:2.0
PRODID:icalendar-ruby
CALSCALE:GREGORIAN
BEGIN:VEVENT
DTSTAMP:20260425T145145Z
UID:b380ee25-c42e-494b-adca-235f5a77a5bf
DTSTART;VALUE=DATE:20260507
DESCRIPTION:Property ID# 606444\, Locatoin: Harcourts Grenadier 98 Moorhous
 e Avenue\, Time: 11:00AM
SUMMARY:Auction for 16 Rosebery Street
END:VEVENT
END:VCALENDAR
