BEGIN:VCALENDAR
VERSION:2.0
PRODID:icalendar-ruby
CALSCALE:GREGORIAN
BEGIN:VEVENT
DTSTAMP:20260420T064123Z
UID:02b35997-64c3-4d4d-85f5-446e1ef18d6e
DTSTART;VALUE=DATE:20260423
DESCRIPTION:Property ID# 605920\, Time: 1:00PM
SUMMARY:Auction for 2/176 Geraldine Street
END:VEVENT
END:VCALENDAR
