BEGIN:VCALENDAR
VERSION:2.0
PRODID:icalendar-ruby
CALSCALE:GREGORIAN
BEGIN:VEVENT
DTSTAMP:20260422T124005Z
UID:6939b38c-b6cb-428a-bb89-531a6c6672f6
DTSTART;VALUE=DATE:20211216
DESCRIPTION:Property ID# 523758\, Time: 11:00AM
SUMMARY:Auction for 
END:VEVENT
END:VCALENDAR
