BEGIN:VCALENDAR
VERSION:2.0
PRODID:icalendar-ruby
CALSCALE:GREGORIAN
BEGIN:VEVENT
DTSTAMP:20260421T092808Z
UID:1d5b35f0-29d9-4ae4-9076-ae1a9201cb1b
DTSTART;VALUE=DATE:20210526
DESCRIPTION:Property ID# 510045\, Locatoin: Harcourts Holmwood\, Ilam 2 off
 ice\, 397 Ilam Road (unless sold prior)\, Time: 5:00AM
SUMMARY:Auction for 
END:VEVENT
END:VCALENDAR
