BEGIN:VCALENDAR
VERSION:2.0
PRODID:icalendar-ruby
CALSCALE:GREGORIAN
BEGIN:VEVENT
DTSTAMP:20260423T121112Z
UID:1864f8bd-5037-4665-b525-f5969c31bb3a
DTSTART;VALUE=DATE:20201008
DESCRIPTION:Property ID# 489848\, Time: 12:00PM
SUMMARY:Auction for 
END:VEVENT
END:VCALENDAR
