BEGIN:VCALENDAR
VERSION:2.0
PRODID:icalendar-ruby
CALSCALE:GREGORIAN
BEGIN:VEVENT
DTSTAMP:20210119T154435Z
UID:d048352f-84b7-4e0a-97d0-846b2399b9f4
DTSTART;TZID=Pacific/Auckland:20210124T120000
DTEND;TZID=Pacific/Auckland:20210124T123000
DESCRIPTION:Property ID# 495645
SUMMARY:Openhome for 3/69 Mandeville St
END:VEVENT
END:VCALENDAR
