BEGIN:VCALENDAR
VERSION:2.0
PRODID:icalendar-ruby
CALSCALE:GREGORIAN
BEGIN:VEVENT
DTSTAMP:20210119T154438Z
UID:172d8b45-1d35-4dc6-bf17-740bcbed35bf
DTSTART;VALUE=DATE:20210118
DESCRIPTION:Property ID# 499166\, Locatoin: Holmwood Auction Rooms\, Ground
  Floor\, 397 - 399 Ilam Road (unless sold prior)\, Time: 4:00AM
SUMMARY:Auction for 
END:VEVENT
END:VCALENDAR
