BEGIN:VCALENDAR
VERSION:2.0
PRODID:icalendar-ruby
CALSCALE:GREGORIAN
BEGIN:VEVENT
DTSTAMP:20210119T154437Z
UID:473a216c-36e1-4e12-bad4-c6b36bb92382
DTSTART;VALUE=DATE:20210203
DESCRIPTION:Property ID# 498551\, Locatoin: Holmwood Auction Rooms\, Ground
  Floor\, 397 - 399 Ilam Road\, Ilam (unless sold prior)\, Time: 10:00AM
SUMMARY:Auction for 22B Highfield Place
END:VEVENT
END:VCALENDAR
