BEGIN:VCALENDAR
VERSION:2.0
PRODID:icalendar-ruby
CALSCALE:GREGORIAN
BEGIN:VEVENT
DTSTAMP:20210119T154531Z
UID:0dd53d93-10a9-4bb2-9964-50f693463650
DTSTART;VALUE=DATE:20201210
DESCRIPTION:Property ID# 496569\, Time: 4:00PM
SUMMARY:Auction for 
END:VEVENT
END:VCALENDAR
