BEGIN:VCALENDAR
VERSION:2.0
PRODID:icalendar-ruby
CALSCALE:GREGORIAN
BEGIN:VEVENT
DTSTAMP:20210119T154533Z
UID:621fe5a2-b3ef-45ef-9a89-496483708ff0
DTSTART;VALUE=DATE:20201205
DESCRIPTION:Property ID# 495734\, Locatoin: Onsite\, Time: 12:00PM
SUMMARY:Auction for 
END:VEVENT
END:VCALENDAR
