BEGIN:VCALENDAR
VERSION:2.0
PRODID:icalendar-ruby
CALSCALE:GREGORIAN
BEGIN:VEVENT
DTSTAMP:20210119T154512Z
UID:85f3f430-87cd-4ea7-bf3f-eef3e1459ad7
DTSTART;VALUE=DATE:20201202
DESCRIPTION:Property ID# 495345\, Locatoin: Tait Technology Centre\, 245 Wo
 olridge Road\, Christchurch\, Time: 12:00PM
SUMMARY:Auction for 2a Coldstream Court
END:VEVENT
END:VCALENDAR
