BEGIN:VCALENDAR
VERSION:2.0
PRODID:icalendar-ruby
CALSCALE:GREGORIAN
BEGIN:VEVENT
DTSTAMP:20210119T154445Z
UID:23a2f34c-1995-44b4-b488-a9fd75e3491d
DTSTART;VALUE=DATE:20201202
DESCRIPTION:Property ID# 495102\, Locatoin: Holmwood Auction Rooms\, Ground
  Floor\, 397 - 399 Ilam Road (unless sold prior)\, Time: 10:00AM
SUMMARY:Auction for 
END:VEVENT
END:VCALENDAR
