BEGIN:VCALENDAR
VERSION:2.0
PRODID:icalendar-ruby
CALSCALE:GREGORIAN
BEGIN:VEVENT
DTSTAMP:20210119T154515Z
UID:f889f939-e66c-4d43-9ebb-c5010762d437
DTSTART;VALUE=DATE:20201125
DESCRIPTION:Property ID# 494466\, Locatoin: Tait Technology Centre\, 245 Wo
 olridge Road\, Christchurch\, Time: 12:00PM
SUMMARY:Auction for 207B Hoon Hay Road
END:VEVENT
END:VCALENDAR
