BEGIN:VCALENDAR
VERSION:2.0
PRODID:icalendar-ruby
CALSCALE:GREGORIAN
BEGIN:VEVENT
DTSTAMP:20210119T154446Z
UID:072a31ac-3cdd-4abc-aab3-8a28d6135f5a
DTSTART;VALUE=DATE:20201111
DESCRIPTION:Property ID# 493299\, Locatoin: Harcourts Holmwood\, 397 - 399 
 Ilam Road\, Ilam (unless sold prior)\, Time: 10:00AM
SUMMARY:Auction for 
END:VEVENT
END:VCALENDAR
