BEGIN:VCALENDAR
VERSION:2.0
PRODID:icalendar-ruby
CALSCALE:GREGORIAN
BEGIN:VEVENT
DTSTAMP:20210119T154457Z
UID:8e786ef7-e8a7-4126-9a50-34008c0fc292
DTSTART;VALUE=DATE:20201022
DESCRIPTION:Property ID# 491477\, Locatoin: 98 Moorhouse Avenue\, Christchu
 rch\, Time: 12:00PM
SUMMARY:Auction for 
END:VEVENT
END:VCALENDAR
