BEGIN:VCALENDAR
VERSION:2.0
PRODID:icalendar-ruby
CALSCALE:GREGORIAN
BEGIN:VEVENT
DTSTAMP:20210119T154535Z
UID:b7b95f57-b16b-420f-bed1-f03a9f4a6aa5
DTSTART;VALUE=DATE:20201015
DESCRIPTION:Property ID# 491199\, Time: 4:00PM
SUMMARY:Auction for 
END:VEVENT
END:VCALENDAR
