BEGIN:VCALENDAR
VERSION:2.0
PRODID:icalendar-ruby
CALSCALE:GREGORIAN
BEGIN:VEVENT
DTSTAMP:20210119T154433Z
UID:39cd850b-2791-405c-b316-8a3a4ae49085
DTSTART;VALUE=DATE:20201016
DESCRIPTION:Property ID# 491153\, Locatoin: Unless sold prior\, Time: 11:00
 AM
SUMMARY:Auction for 
END:VEVENT
END:VCALENDAR
