BEGIN:VCALENDAR
VERSION:2.0
PRODID:icalendar-ruby
CALSCALE:GREGORIAN
BEGIN:VEVENT
DTSTAMP:20210119T154544Z
UID:9461e6ce-c473-4eaf-88fe-7207b3f67048
DTSTART;VALUE=DATE:20201003
DESCRIPTION:Property ID# 490019\, Locatoin: Onsite (unless sold prior)\, Ti
 me: 12:00PM
SUMMARY:Auction for 
END:VEVENT
END:VCALENDAR
