BEGIN:VCALENDAR
VERSION:2.0
PRODID:icalendar-ruby
CALSCALE:GREGORIAN
BEGIN:VEVENT
DTSTAMP:20210119T154459Z
UID:84cd0990-b6e6-47f4-8e41-3a133013cc5b
DTSTART;VALUE=DATE:20200910
DESCRIPTION:Property ID# 488239\, Locatoin: 98 Moorhouse Avenue\, Christchu
 rch\, Time: 12:00PM
SUMMARY:Auction for 
END:VEVENT
END:VCALENDAR
