BEGIN:VCALENDAR
VERSION:2.0
PRODID:icalendar-ruby
CALSCALE:GREGORIAN
BEGIN:VEVENT
DTSTAMP:20210119T154547Z
UID:fb639efd-b8ff-4d1d-b16a-cfbfa08fd849
DTSTART;VALUE=DATE:20200810
DESCRIPTION:Property ID# 486215\, Locatoin: Harcourts Holmwood\, 397 - 399 
 Ilam Road\, Ilam\, Time: 2:30PM
SUMMARY:Auction for 
END:VEVENT
END:VCALENDAR
