BEGIN:VCALENDAR
VERSION:2.0
PRODID:icalendar-ruby
CALSCALE:GREGORIAN
BEGIN:VEVENT
DTSTAMP:20210119T154500Z
UID:12d53b6e-9b57-41de-85ae-130a76a3def8
DTSTART;VALUE=DATE:20200730
DESCRIPTION:Property ID# 484765\, Locatoin: 98 Moorhouse Avenue\, Christchu
 rch\, Time: 12:00PM
SUMMARY:Auction for 
END:VEVENT
END:VCALENDAR
