BEGIN:VCALENDAR
VERSION:2.0
PRODID:icalendar-ruby
CALSCALE:GREGORIAN
BEGIN:VEVENT
DTSTAMP:20210119T154536Z
UID:af40f16c-8578-4027-9bd3-8df6784cbcc9
DTSTART;VALUE=DATE:20200625
DESCRIPTION:Property ID# 483854\, Time: 12:00PM
SUMMARY:Auction for 
END:VEVENT
END:VCALENDAR
