BEGIN:VCALENDAR
VERSION:2.0
PRODID:icalendar-ruby
CALSCALE:GREGORIAN
BEGIN:VEVENT
DTSTAMP:20210119T154538Z
UID:587828b2-4181-4b5b-96a2-da624d2ec580
DTSTART;VALUE=DATE:20200702
DESCRIPTION:Property ID# 483043\, Locatoin: All offers on or before 4pm\, T
 hursday 2nd July 2020 (unless sold prior).\, Time: 4:00PM
SUMMARY:Auction for 
END:VEVENT
END:VCALENDAR
