BEGIN:VCALENDAR
VERSION:2.0
PRODID:icalendar-ruby
CALSCALE:GREGORIAN
BEGIN:VEVENT
DTSTAMP:20210119T154502Z
UID:ad7a79e3-fb2b-4059-9bf0-43578ca3ac3d
DTSTART;VALUE=DATE:20200709
DESCRIPTION:Property ID# 482680\, Locatoin: 98 Moorhouse Avenue\, Christchu
 rch\, Time: 12:00PM
SUMMARY:Auction for 
END:VEVENT
END:VCALENDAR
