BEGIN:VCALENDAR
VERSION:2.0
PRODID:icalendar-ruby
CALSCALE:GREGORIAN
BEGIN:VEVENT
DTSTAMP:20210119T154434Z
UID:9626747a-f536-480c-9eaf-7dab8614ffe4
DTSTART;VALUE=DATE:20200717
DESCRIPTION:Property ID# 481793\, Locatoin: Unless sold prior\, Time: 11:00
 AM
SUMMARY:Auction for 
END:VEVENT
END:VCALENDAR
