BEGIN:VCALENDAR
VERSION:2.0
PRODID:icalendar-ruby
CALSCALE:GREGORIAN
BEGIN:VEVENT
DTSTAMP:20210119T154520Z
UID:776927b0-dc60-4792-96e9-8f28b2f14c7b
DTSTART;VALUE=DATE:20200311
DESCRIPTION:Property ID# 472866\, Time: 4:00PM
SUMMARY:Auction for 
END:VEVENT
END:VCALENDAR
