BEGIN:VCALENDAR
VERSION:2.0
PRODID:icalendar-ruby
CALSCALE:GREGORIAN
BEGIN:VEVENT
DTSTAMP:20210119T154503Z
UID:25165094-d9d5-4779-818d-e971ca3d64e4
DTSTART;VALUE=DATE:20191209
DESCRIPTION:Property ID# 467377\, Time: 4:00PM
SUMMARY:Auction for 
END:VEVENT
END:VCALENDAR
