BEGIN:VCALENDAR
VERSION:2.0
PRODID:icalendar-ruby
CALSCALE:GREGORIAN
BEGIN:VEVENT
DTSTAMP:20210119T154521Z
UID:87f05942-bfb4-45dc-befc-862d340d4ce0
DTSTART;VALUE=DATE:20191211
DESCRIPTION:Property ID# 466983\, Time: 4:00PM
SUMMARY:Auction for 
END:VEVENT
END:VCALENDAR
